BEGIN:VCALENDAR
VERSION:2.0
PRODID:-//Lehigh River Stocking Association - ECPv6.15.11//NONSGML v1.0//EN
CALSCALE:GREGORIAN
METHOD:PUBLISH
X-ORIGINAL-URL:https://www.lrsa.org
X-WR-CALDESC:Events for Lehigh River Stocking Association
REFRESH-INTERVAL;VALUE=DURATION:PT1H
X-Robots-Tag:noindex
X-PUBLISHED-TTL:PT1H
BEGIN:VTIMEZONE
TZID:UTC
BEGIN:STANDARD
TZOFFSETFROM:+0000
TZOFFSETTO:+0000
TZNAME:UTC
DTSTART:20220101T000000
END:STANDARD
END:VTIMEZONE
BEGIN:VEVENT
DTSTART;TZID=UTC:20230325T110000
DTEND;TZID=UTC:20230325T170000
DTSTAMP:20260421T123311
CREATED:20230228T231358Z
LAST-MODIFIED:20230228T231358Z
UID:3391-1679742000-1679763600@www.lrsa.org
SUMMARY:Sportsmen Expo
DESCRIPTION:
URL:https://www.lrsa.org/event/sportsmen-expo/
LOCATION:Penn Forest Fire Co\, Rt 903\, Jim Thorpe\, PA\, United States
END:VEVENT
END:VCALENDAR